BEGIN:VCALENDAR
VERSION:2.0
PRODID:-//hacksw/handcal//NONSGML v1.0//EN
BEGIN:VEVENT
SUMMARY:Stage M15-M avec Desire
UID:bde47a38-bffa-4229-803e-53d62ebe2a2b
DTSTART:20260420T163000Z
DTEND:20260420T183000Z
LOCATION:Localisation   
CATEGORIES:Stage
STATUS:
URL;VALUE=URI:https://www.suresnes-volleyball.fr/evenements/2026/04/20/stage-m15-m-avec-desire-2442640
END:VEVENT
END:VCALENDAR
