BEGIN:VCALENDAR
VERSION:2.0
PRODID:-//hacksw/handcal//NONSGML v1.0//EN
BEGIN:VEVENT
SUMMARY:Stage M15-M avec Desire
UID:fdeb625b-3112-43c5-8e38-c6b210f70fa3
DTSTART:20260421T163000Z
DTEND:20260421T183000Z
LOCATION:Localisation   
CATEGORIES:Stage
STATUS:
URL;VALUE=URI:https://www.suresnes-volleyball.fr/evenements/2026/04/21/stage-m15-m-avec-desire-2442642
END:VEVENT
END:VCALENDAR
