BEGIN:VCALENDAR
VERSION:2.0
PRODID:-//hacksw/handcal//NONSGML v1.0//EN
BEGIN:VEVENT
SUMMARY:Tournoi interne 4x4 du SVBC
UID:f89d8acd-55b6-4b60-9188-d4299758e6bb
DTSTART:20260530T073000Z
DTEND:20260530T160000Z
LOCATION:Localisation Gymnase Aubry. 21 avenue Alexandre Maistrasse 92500 RUEIL-MALMAISON
CATEGORIES:Sportif
STATUS:
DESCRIPTION:<p>Pour la deuxieme fois cette annee, le SVBC organise un
 tournoi interne 4x4 le samedi 30 mai toute la journee.</p>
 
 <p>Les
 inscriptions sont ouvertes pour le tournoi inter 4x4 du SVBC de
 mai.</p>
 
 <p>•⁠  ⁠⁠⁠4x4 mixte tres fortement recommande
 mais pas obligatoire (a savoir que si non mixte penalite en
 match). <br />
 •⁠  ⁠⁠⁠tournoi gratuit, avec buvette
 participative donc merci a tous de ramener un petit quelque chose<br
 />
 •⁠  ⁠⁠⁠horaire du tournoi : 9h30 debut des matchs
 jusqu’a 17-18h<br />
 •⁠  ⁠⁠⁠7 matchs minimums par
 equipe <br />
 •⁠  ⁠⁠⁠12 equipes au total<br />
 •⁠
  ⁠⁠⁠En cas de problemes / Desistement / ou manque d'effectifs
 dans une equipe ou si vous avez simplement des questions, merci de
 contacter Arthur au 06 95 08 51 26</p>
URL;VALUE=URI:https://www.suresnes-volleyball.fr/evenements/2026/05/30/tournoi-interne-4x4-du-svbc-2444667
END:VEVENT
END:VCALENDAR
